BEGIN:VCALENDAR
VERSION:1.0
BEGIN:VEVENT
DTSTART:20250818T193000
DTEND:20250818T203000
SUMMARY:Geico vs. Globe Life
DESCRIPTION:B Division Men - City of Richardson Corporate Challenge<br>Sponsored by State Farm
LOCATION:Huffhines Tennis Center
CATEGORIES:QuickScores; Tennis Game
TRANSP:0
DALARM:20250818T173000;PT10M;2;Geico vs. Globe Life
END:VEVENT
BEGIN:VEVENT
DTSTART:20250819T190000
DTEND:20250819T200000
SUMMARY:Cisco vs. Globe Life
DESCRIPTION:B Division Men - City of Richardson Corporate Challenge<br>Sponsored by State Farm
LOCATION:Huffhines Tennis Center
CATEGORIES:QuickScores; Tennis Game
TRANSP:0
DALARM:20250819T170000;PT10M;2;Cisco vs. Globe Life
END:VEVENT
BEGIN:VEVENT
DTSTART:20250820T183000
DTEND:20250820T193000
SUMMARY:Texas Capital Bank vs. Globe Life
DESCRIPTION:B Division Men - City of Richardson Corporate Challenge<br>Sponsored by State Farm
LOCATION:Huffhines Tennis Center
CATEGORIES:QuickScores; Tennis Game
TRANSP:0
DALARM:20250820T163000;PT10M;2;Texas Capital Bank vs. Globe Life
END:VEVENT
BEGIN:VEVENT
DTSTART:20250821T183000
DTEND:20250821T193000
SUMMARY:Globe Life vs. Texas Capital Bank
DESCRIPTION:B Division Men - City of Richardson Corporate Challenge<br>Sponsored by State Farm
LOCATION:Huffhines Tennis Center
CATEGORIES:QuickScores; Tennis Game
TRANSP:0
DALARM:20250821T163000;PT10M;2;Globe Life vs. Texas Capital Bank
END:VEVENT
BEGIN:VEVENT
DTSTART:20250821T193000
DTEND:20250821T203000
SUMMARY:Texas Capital Bank vs. Globe Life
DESCRIPTION:B Division Men - City of Richardson Corporate Challenge<br>Sponsored by State Farm
LOCATION:Huffhines Tennis Center
CATEGORIES:QuickScores; Tennis Game
TRANSP:0
DALARM:20250821T173000;PT10M;2;Texas Capital Bank vs. Globe Life
END:VEVENT
END:VCALENDAR
