BEGIN:VCALENDAR
VERSION:1.0
BEGIN:VEVENT
DTSTART:20250818T193000
DTEND:20250818T203000
SUMMARY:7-Eleven Inc. vs. The Heart Hospital
DESCRIPTION:B Division Men - City of Richardson Corporate Challenge<br>Sponsored by State Farm
LOCATION:Huffhines Tennis Center
CATEGORIES:QuickScores; Tennis Game
TRANSP:0
DALARM:20250818T173000;PT10M;2;7-Eleven Inc. vs. The Heart Hospital
END:VEVENT
BEGIN:VEVENT
DTSTART:20250819T190000
DTEND:20250819T200000
SUMMARY:7-Eleven Inc. vs. COR
DESCRIPTION:B Division Men - City of Richardson Corporate Challenge<br>Sponsored by State Farm
LOCATION:Huffhines Tennis Center
CATEGORIES:QuickScores; Tennis Game
TRANSP:0
DALARM:20250819T170000;PT10M;2;7-Eleven Inc. vs. COR
END:VEVENT
BEGIN:VEVENT
DTSTART:20250819T210000
DTEND:20250819T220000
SUMMARY:Cisco vs. 7-Eleven Inc.
DESCRIPTION:B Division Men - City of Richardson Corporate Challenge<br>Sponsored by State Farm
LOCATION:Huffhines Tennis Center
CATEGORIES:QuickScores; Tennis Game
TRANSP:0
DALARM:20250819T190000;PT10M;2;Cisco vs. 7-Eleven Inc.
END:VEVENT
END:VCALENDAR
