BEGIN:VCALENDAR
VERSION:1.0
BEGIN:VEVENT
DTSTART:20250902T183000
DTEND:20250902T193000
SUMMARY:Lennox vs. McKesson
DESCRIPTION:A Division Men - City of Richardson Corporate Challenge<br>Sponsored by State Farm
LOCATION:Huffhines Rec Center
CATEGORIES:QuickScores; Table Tennis Game
TRANSP:0
DALARM:20250902T163000;PT10M;2;Lennox vs. McKesson
END:VEVENT
END:VCALENDAR
