BEGIN:VCALENDAR
VERSION:1.0
BEGIN:VEVENT
DTSTART:20250809T150000
DTEND:20250809T160000
SUMMARY:Continental Electronics vs. BMO Bank
DESCRIPTION:Division F - City of Richardson Corporate Challenge<br>Sponsored by State Farm
LOCATION:Net Results Sports Center #5
CATEGORIES:QuickScores; Volleyball Game
TRANSP:0
DALARM:20250809T130000;PT10M;2;Continental Electronics vs. BMO Bank
END:VEVENT
BEGIN:VEVENT
DTSTART:20250809T160000
DTEND:20250809T170000
SUMMARY:Amazon Web Services vs. Continental Electronics
DESCRIPTION:Division F - City of Richardson Corporate Challenge<br>Sponsored by State Farm
LOCATION:Net Results Sports Center #4
CATEGORIES:QuickScores; Volleyball Game
TRANSP:0
DALARM:20250809T140000;PT10M;2;Amazon Web Services vs. Continental Electronics
END:VEVENT
END:VCALENDAR
