BEGIN:VCALENDAR
VERSION:1.0
BEGIN:VEVENT
DTSTART:20250818T183000
DTEND:20250818T193000
SUMMARY:CUTX vs. Leonardo DRS
DESCRIPTION:C Division Mixed - City of Richardson Corporate Challenge<br>Sponsored by State Farm
LOCATION:UTD Tennis Center
CATEGORIES:QuickScores; Tennis Game
TRANSP:0
DALARM:20250818T163000;PT10M;2;CUTX vs. Leonardo DRS
END:VEVENT
BEGIN:VEVENT
DTSTART:20250818T200000
DTEND:20250818T210000
SUMMARY:ISN vs. CUTX
DESCRIPTION:C Division Mixed - City of Richardson Corporate Challenge<br>Sponsored by State Farm
LOCATION:UTD Tennis Center
CATEGORIES:QuickScores; Tennis Game
TRANSP:0
DALARM:20250818T180000;PT10M;2;ISN vs. CUTX
END:VEVENT
BEGIN:VEVENT
DTSTART:20250819T183000
DTEND:20250819T193000
SUMMARY:CUTX vs. UTD
DESCRIPTION:C Division Mixed - City of Richardson Corporate Challenge<br>Sponsored by State Farm
LOCATION:UTD Tennis Center
CATEGORIES:QuickScores; Tennis Game
TRANSP:0
DALARM:20250819T163000;PT10M;2;CUTX vs. UTD
END:VEVENT
BEGIN:VEVENT
DTSTART:20250819T200000
DTEND:20250819T210000
SUMMARY:CUTX vs. Fossil
DESCRIPTION:C Division Mixed - City of Richardson Corporate Challenge<br>Sponsored by State Farm
LOCATION:UTD Tennis Center
CATEGORIES:QuickScores; Tennis Game
TRANSP:0
DALARM:20250819T180000;PT10M;2;CUTX vs. Fossil
END:VEVENT
BEGIN:VEVENT
DTSTART:20250820T183000
DTEND:20250820T193000
SUMMARY:ISN vs. CUTX
DESCRIPTION:C Division Mixed - City of Richardson Corporate Challenge<br>Sponsored by State Farm
LOCATION:UTD Tennis Center
CATEGORIES:QuickScores; Tennis Game
TRANSP:0
DALARM:20250820T163000;PT10M;2;ISN vs. CUTX
END:VEVENT
END:VCALENDAR
