BEGIN:VCALENDAR
VERSION:1.0
BEGIN:VEVENT
DTSTART:20250818T183000
DTEND:20250818T193000
SUMMARY:LJA Engineering vs. Texas Capital Bank
DESCRIPTION:B Division Women - City of Richardson Corporate Challenge<br>Sponsored by State Farm
LOCATION:Huffhines Tennis Center
CATEGORIES:QuickScores; Tennis Game
TRANSP:0
DALARM:20250818T163000;PT10M;2;LJA Engineering vs. Texas Capital Bank
END:VEVENT
BEGIN:VEVENT
DTSTART:20250818T210000
DTEND:20250818T220000
SUMMARY:COR vs. Texas Capital Bank
DESCRIPTION:B Division Women - City of Richardson Corporate Challenge<br>Sponsored by State Farm
LOCATION:Huffhines Tennis Center
CATEGORIES:QuickScores; Tennis Game
TRANSP:0
DALARM:20250818T190000;PT10M;2;COR vs. Texas Capital Bank
END:VEVENT
BEGIN:VEVENT
DTSTART:20250819T200000
DTEND:20250819T210000
SUMMARY:Texas Capital Bank vs. The Heart Hospital
DESCRIPTION:B Division Women - City of Richardson Corporate Challenge<br>Sponsored by State Farm
LOCATION:Huffhines Tennis Center
CATEGORIES:QuickScores; Tennis Game
TRANSP:0
DALARM:20250819T180000;PT10M;2;Texas Capital Bank vs. The Heart Hospital
END:VEVENT
BEGIN:VEVENT
DTSTART:20250820T190000
DTEND:20250820T200000
SUMMARY:Texas Capital Bank vs. Cisco
DESCRIPTION:B Division Women - City of Richardson Corporate Challenge<br>Sponsored by State Farm
LOCATION:Huffhines Tennis Center
CATEGORIES:QuickScores; Tennis Game
TRANSP:0
DALARM:20250820T170000;PT10M;2;Texas Capital Bank vs. Cisco
END:VEVENT
BEGIN:VEVENT
DTSTART:20250821T183000
DTEND:20250821T193000
SUMMARY:Texas Capital Bank vs. Cisco
DESCRIPTION:B Division Women - City of Richardson Corporate Challenge<br>Sponsored by State Farm
LOCATION:Huffhines Tennis Center
CATEGORIES:QuickScores; Tennis Game
TRANSP:0
DALARM:20250821T163000;PT10M;2;Texas Capital Bank vs. Cisco
END:VEVENT
END:VCALENDAR
