BEGIN:VCALENDAR
VERSION:1.0
BEGIN:VEVENT
DTSTART:20250818T200000
DTEND:20250818T210000
SUMMARY:Cisco vs. HF Sinclair
DESCRIPTION:B Division Women - City of Richardson Corporate Challenge<br>Sponsored by State Farm
LOCATION:Huffhines Tennis Center
CATEGORIES:QuickScores; Tennis Game
TRANSP:0
DALARM:20250818T180000;PT10M;2;Cisco vs. HF Sinclair
END:VEVENT
BEGIN:VEVENT
DTSTART:20250819T200000
DTEND:20250819T210000
SUMMARY:LJA Engineering vs. HF Sinclair
DESCRIPTION:B Division Women - City of Richardson Corporate Challenge<br>Sponsored by State Farm
LOCATION:Huffhines Tennis Center
CATEGORIES:QuickScores; Tennis Game
TRANSP:0
DALARM:20250819T180000;PT10M;2;LJA Engineering vs. HF Sinclair
END:VEVENT
BEGIN:VEVENT
DTSTART:20250819T213000
DTEND:20250819T223000
SUMMARY:The Heart Hospital vs. HF Sinclair
DESCRIPTION:B Division Women - City of Richardson Corporate Challenge<br>Sponsored by State Farm
LOCATION:Huffhines Tennis Center
CATEGORIES:QuickScores; Tennis Game
TRANSP:0
DALARM:20250819T193000;PT10M;2;The Heart Hospital vs. HF Sinclair
END:VEVENT
END:VCALENDAR
