BEGIN:VCALENDAR
VERSION:1.0
BEGIN:VEVENT
DTSTART:20250818T190000
DTEND:20250818T200000
SUMMARY:Geico vs. Globe Life
DESCRIPTION:B Division Women - City of Richardson Corporate Challenge<br>Sponsored by State Farm
LOCATION:Huffhines Tennis Center
CATEGORIES:QuickScores; Tennis Game
TRANSP:0
DALARM:20250818T170000;PT10M;2;Geico vs. Globe Life
END:VEVENT
BEGIN:VEVENT
DTSTART:20250818T210000
DTEND:20250818T220000
SUMMARY:Globe Life vs. LJA Engineering
DESCRIPTION:B Division Women - City of Richardson Corporate Challenge<br>Sponsored by State Farm
LOCATION:Huffhines Tennis Center
CATEGORIES:QuickScores; Tennis Game
TRANSP:0
DALARM:20250818T190000;PT10M;2;Globe Life vs. LJA Engineering
END:VEVENT
END:VCALENDAR
