BEGIN:VCALENDAR
VERSION:1.0
BEGIN:VEVENT
DTSTART:20250818T200000
DTEND:20250818T210000
SUMMARY:7-Eleven Inc. vs. The Heart Hospital
DESCRIPTION:B Division Women - City of Richardson Corporate Challenge<br>Sponsored by State Farm
LOCATION:Huffhines Tennis Center
CATEGORIES:QuickScores; Tennis Game
TRANSP:0
DALARM:20250818T180000;PT10M;2;7-Eleven Inc. vs. The Heart Hospital
END:VEVENT
BEGIN:VEVENT
DTSTART:20250819T200000
DTEND:20250819T210000
SUMMARY:Texas Capital Bank vs. The Heart Hospital
DESCRIPTION:B Division Women - City of Richardson Corporate Challenge<br>Sponsored by State Farm
LOCATION:Huffhines Tennis Center
CATEGORIES:QuickScores; Tennis Game
TRANSP:0
DALARM:20250819T180000;PT10M;2;Texas Capital Bank vs. The Heart Hospital
END:VEVENT
BEGIN:VEVENT
DTSTART:20250819T213000
DTEND:20250819T223000
SUMMARY:The Heart Hospital vs. HF Sinclair
DESCRIPTION:B Division Women - City of Richardson Corporate Challenge<br>Sponsored by State Farm
LOCATION:Huffhines Tennis Center
CATEGORIES:QuickScores; Tennis Game
TRANSP:0
DALARM:20250819T193000;PT10M;2;The Heart Hospital vs. HF Sinclair
END:VEVENT
BEGIN:VEVENT
DTSTART:20250820T190000
DTEND:20250820T200000
SUMMARY:The Heart Hospital vs. COR
DESCRIPTION:B Division Women - City of Richardson Corporate Challenge<br>Sponsored by State Farm
LOCATION:Huffhines Tennis Center
CATEGORIES:QuickScores; Tennis Game
TRANSP:0
DALARM:20250820T170000;PT10M;2;The Heart Hospital vs. COR
END:VEVENT
BEGIN:VEVENT
DTSTART:20250820T200000
DTEND:20250820T210000
SUMMARY:Cisco vs. The Heart Hospital
DESCRIPTION:B Division Women - City of Richardson Corporate Challenge<br>Sponsored by State Farm
LOCATION:Huffhines Tennis Center
CATEGORIES:QuickScores; Tennis Game
TRANSP:0
DALARM:20250820T180000;PT10M;2;Cisco vs. The Heart Hospital
END:VEVENT
END:VCALENDAR
