BEGIN:VCALENDAR
VERSION:1.0
BEGIN:VEVENT
DTSTART:20250818T210000
DTEND:20250818T220000
SUMMARY:COR vs. Texas Capital Bank
DESCRIPTION:B Division Mixed - City of Richardson Corporate Challenge<br>Sponsored by State Farm
LOCATION:Huffhines Tennis Center
CATEGORIES:QuickScores; Tennis Game
TRANSP:0
DALARM:20250818T190000;PT10M;2;COR vs. Texas Capital Bank
END:VEVENT
BEGIN:VEVENT
DTSTART:20250819T193000
DTEND:20250819T203000
SUMMARY:7-Eleven Inc. vs. COR
DESCRIPTION:B Division Mixed - City of Richardson Corporate Challenge<br>Sponsored by State Farm
LOCATION:Huffhines Tennis Center
CATEGORIES:QuickScores; Tennis Game
TRANSP:0
DALARM:20250819T173000;PT10M;2;7-Eleven Inc. vs. COR
END:VEVENT
BEGIN:VEVENT
DTSTART:20250819T210000
DTEND:20250819T220000
SUMMARY:Geico vs. COR
DESCRIPTION:B Division Mixed - City of Richardson Corporate Challenge<br>Sponsored by State Farm
LOCATION:Huffhines Tennis Center
CATEGORIES:QuickScores; Tennis Game
TRANSP:0
DALARM:20250819T190000;PT10M;2;Geico vs. COR
END:VEVENT
BEGIN:VEVENT
DTSTART:20250820T183000
DTEND:20250820T193000
SUMMARY:HF Sinclair vs. COR
DESCRIPTION:B Division Mixed - City of Richardson Corporate Challenge<br>Sponsored by State Farm
LOCATION:Huffhines Tennis Center
CATEGORIES:QuickScores; Tennis Game
TRANSP:0
DALARM:20250820T163000;PT10M;2;HF Sinclair vs. COR
END:VEVENT
END:VCALENDAR
