BEGIN:VCALENDAR
VERSION:1.0
BEGIN:VEVENT
DTSTART:20250818T193000
DTEND:20250818T203000
SUMMARY:Cisco vs. HF Sinclair
DESCRIPTION:B Division Mixed - City of Richardson Corporate Challenge<br>Sponsored by State Farm
LOCATION:Huffhines Tennis Center
CATEGORIES:QuickScores; Tennis Game
TRANSP:0
DALARM:20250818T173000;PT10M;2;Cisco vs. HF Sinclair
END:VEVENT
BEGIN:VEVENT
DTSTART:20250819T193000
DTEND:20250819T203000
SUMMARY:Cisco vs. Geico
DESCRIPTION:B Division Mixed - City of Richardson Corporate Challenge<br>Sponsored by State Farm
LOCATION:Huffhines Tennis Center
CATEGORIES:QuickScores; Tennis Game
TRANSP:0
DALARM:20250819T173000;PT10M;2;Cisco vs. Geico
END:VEVENT
BEGIN:VEVENT
DTSTART:20250820T183000
DTEND:20250820T193000
SUMMARY:Texas Capital Bank vs. Cisco
DESCRIPTION:B Division Mixed - City of Richardson Corporate Challenge<br>Sponsored by State Farm
LOCATION:Huffhines Tennis Center
CATEGORIES:QuickScores; Tennis Game
TRANSP:0
DALARM:20250820T163000;PT10M;2;Texas Capital Bank vs. Cisco
END:VEVENT
BEGIN:VEVENT
DTSTART:20250821T183000
DTEND:20250821T193000
SUMMARY:Cisco vs. HF Sinclair
DESCRIPTION:B Division Mixed - City of Richardson Corporate Challenge<br>Sponsored by State Farm
LOCATION:Huffhines Tennis Center
CATEGORIES:QuickScores; Tennis Game
TRANSP:0
DALARM:20250821T163000;PT10M;2;Cisco vs. HF Sinclair
END:VEVENT
BEGIN:VEVENT
DTSTART:20250821T193000
DTEND:20250821T203000
SUMMARY:HF Sinclair vs. Cisco
DESCRIPTION:B Division Mixed - City of Richardson Corporate Challenge<br>Sponsored by State Farm
LOCATION:Huffhines Tennis Center
CATEGORIES:QuickScores; Tennis Game
TRANSP:0
DALARM:20250821T173000;PT10M;2;HF Sinclair vs. Cisco
END:VEVENT
END:VCALENDAR
