BEGIN:VCALENDAR
VERSION:1.0
BEGIN:VEVENT
DTSTART:20250818T193000
DTEND:20250818T203000
SUMMARY:The Heart Hospital vs. 7-Eleven Inc.
DESCRIPTION:B Division Mixed - City of Richardson Corporate Challenge<br>Sponsored by State Farm
LOCATION:Huffhines Tennis Center
CATEGORIES:QuickScores; Tennis Game
TRANSP:0
DALARM:20250818T173000;PT10M;2;The Heart Hospital vs. 7-Eleven Inc.
END:VEVENT
BEGIN:VEVENT
DTSTART:20250819T193000
DTEND:20250819T203000
SUMMARY:Texas Capital Bank vs. The Heart Hospital
DESCRIPTION:B Division Mixed - City of Richardson Corporate Challenge<br>Sponsored by State Farm
LOCATION:Huffhines Tennis Center
CATEGORIES:QuickScores; Tennis Game
TRANSP:0
DALARM:20250819T173000;PT10M;2;Texas Capital Bank vs. The Heart Hospital
END:VEVENT
BEGIN:VEVENT
DTSTART:20250819T210000
DTEND:20250819T220000
SUMMARY:The Heart Hospital vs. HF Sinclair
DESCRIPTION:B Division Mixed - City of Richardson Corporate Challenge<br>Sponsored by State Farm
LOCATION:Huffhines Tennis Center
CATEGORIES:QuickScores; Tennis Game
TRANSP:0
DALARM:20250819T190000;PT10M;2;The Heart Hospital vs. HF Sinclair
END:VEVENT
END:VCALENDAR
