BEGIN:VCALENDAR
VERSION:1.0
BEGIN:VEVENT
DTSTART:20250818T190000
DTEND:20250818T200000
SUMMARY:Texas Instruments vs. RTX
DESCRIPTION:A Division Mixed - City of Richardson Corporate Challenge<br>Sponsored by State Farm
LOCATION:Huffhines Tennis Center
CATEGORIES:QuickScores; Tennis Game
TRANSP:0
DALARM:20250818T170000;PT10M;2;Texas Instruments vs. RTX
END:VEVENT
BEGIN:VEVENT
DTSTART:20250819T183000
DTEND:20250819T193000
SUMMARY:Texas Instruments vs. Blue Cross
DESCRIPTION:A Division Mixed - City of Richardson Corporate Challenge<br>Sponsored by State Farm
LOCATION:Huffhines Tennis Center
CATEGORIES:QuickScores; Tennis Game
TRANSP:0
DALARM:20250819T163000;PT10M;2;Texas Instruments vs. Blue Cross
END:VEVENT
BEGIN:VEVENT
DTSTART:20250819T203000
DTEND:20250819T213000
SUMMARY:Texas Instruments vs. EY
DESCRIPTION:A Division Mixed - City of Richardson Corporate Challenge<br>Sponsored by State Farm
LOCATION:Huffhines Tennis Center
CATEGORIES:QuickScores; Tennis Game
TRANSP:0
DALARM:20250819T183000;PT10M;2;Texas Instruments vs. EY
END:VEVENT
BEGIN:VEVENT
DTSTART:20250820T183000
DTEND:20250820T193000
SUMMARY:State Farm vs. Texas Instruments
DESCRIPTION:A Division Mixed - City of Richardson Corporate Challenge<br>Sponsored by State Farm
LOCATION:Huffhines Tennis Center
CATEGORIES:QuickScores; Tennis Game
TRANSP:0
DALARM:20250820T163000;PT10M;2;State Farm vs. Texas Instruments
END:VEVENT
END:VCALENDAR
