BEGIN:VCALENDAR
VERSION:1.0
BEGIN:VEVENT
DTSTART:20250902T183000
DTEND:20250902T193000
SUMMARY:Texas Instruments vs. Blue Cross
DESCRIPTION:A Division Women - City of Richardson Corporate Challenge<br>Sponsored by State Farm
LOCATION:Huffhines Rec Center
CATEGORIES:QuickScores; Table Tennis Game
TRANSP:0
DALARM:20250902T163000;PT10M;2;Texas Instruments vs. Blue Cross
END:VEVENT
BEGIN:VEVENT
DTSTART:20250902T000000
DTEND:20250902T000000
SUMMARY:Texas Instruments vs. Lennox
DESCRIPTION:A Division Women - City of Richardson Corporate Challenge<br>Sponsored by State Farm
LOCATION:Huffhines Rec Center
CATEGORIES:QuickScores; Table Tennis Game
TRANSP:0
DALARM:20250902T000000;PT10M;2;Texas Instruments vs. Lennox
END:VEVENT
BEGIN:VEVENT
DTSTART:20250902T000000
DTEND:20250902T000000
SUMMARY:Texas Instruments vs. KPMG
DESCRIPTION:A Division Women - City of Richardson Corporate Challenge<br>Sponsored by State Farm
LOCATION:Huffhines Rec Center
CATEGORIES:QuickScores; Table Tennis Game
TRANSP:0
DALARM:20250902T000000;PT10M;2;Texas Instruments vs. KPMG
END:VEVENT
BEGIN:VEVENT
DTSTART:20250902T000000
DTEND:20250902T000000
SUMMARY:Texas Instruments vs. RTX
DESCRIPTION:A Division Women - City of Richardson Corporate Challenge<br>Sponsored by State Farm
LOCATION:Huffhines Rec Center
CATEGORIES:QuickScores; Table Tennis Game
TRANSP:0
DALARM:20250902T000000;PT10M;2;Texas Instruments vs. RTX
END:VEVENT
END:VCALENDAR
