BEGIN:VCALENDAR
VERSION:1.0
BEGIN:VEVENT
DTSTART:20250902T183000
DTEND:20250902T193000
SUMMARY:KPMG vs. PepsiCo
DESCRIPTION:A Division Women - City of Richardson Corporate Challenge<br>Sponsored by State Farm
LOCATION:Huffhines Rec Center
CATEGORIES:QuickScores; Table Tennis Game
TRANSP:0
DALARM:20250902T163000;PT10M;2;KPMG vs. PepsiCo
END:VEVENT
BEGIN:VEVENT
DTSTART:20250902T000000
DTEND:20250902T000000
SUMMARY:KPMG vs. State Farm
DESCRIPTION:A Division Women - City of Richardson Corporate Challenge<br>Sponsored by State Farm
LOCATION:Huffhines Rec Center
CATEGORIES:QuickScores; Table Tennis Game
TRANSP:0
DALARM:20250902T000000;PT10M;2;KPMG vs. State Farm
END:VEVENT
BEGIN:VEVENT
DTSTART:20250902T000000
DTEND:20250902T000000
SUMMARY:KPMG vs. EY
DESCRIPTION:A Division Women - City of Richardson Corporate Challenge<br>Sponsored by State Farm
LOCATION:Huffhines Rec Center
CATEGORIES:QuickScores; Table Tennis Game
TRANSP:0
DALARM:20250902T000000;PT10M;2;KPMG vs. EY
END:VEVENT
BEGIN:VEVENT
DTSTART:20250902T000000
DTEND:20250902T000000
SUMMARY:Texas Instruments vs. KPMG
DESCRIPTION:A Division Women - City of Richardson Corporate Challenge<br>Sponsored by State Farm
LOCATION:Huffhines Rec Center
CATEGORIES:QuickScores; Table Tennis Game
TRANSP:0
DALARM:20250902T000000;PT10M;2;Texas Instruments vs. KPMG
END:VEVENT
END:VCALENDAR
