BEGIN:VCALENDAR
VERSION:1.0
BEGIN:VEVENT
DTSTART:20251004T170000
DTEND:20251004T180000
SUMMARY:Analog Devices vs. Sendero
DESCRIPTION:D Division Men - City of Richardson Corporate Challenge<br>Sponsored by State Farm
LOCATION:Huffhines Rec Center
CATEGORIES:QuickScores; Pickleball Game
TRANSP:0
DALARM:20251004T150000;PT10M;2;Analog Devices vs. Sendero
END:VEVENT
END:VCALENDAR
