BEGIN:VCALENDAR
VERSION:1.0
BEGIN:VEVENT
DTSTART:20251004T000000
DTEND:20251004T000000
SUMMARY:Ally vs. Analog Devices
DESCRIPTION:D Division Men - City of Richardson Corporate Challenge<br>Sponsored by State Farm
LOCATION:Huffhines Rec Center
CATEGORIES:QuickScores; Pickleball Game
TRANSP:0
DALARM:20251004T000000;PT10M;2;Ally vs. Analog Devices
END:VEVENT
END:VCALENDAR
