BEGIN:VCALENDAR
VERSION:1.0
BEGIN:VEVENT
DTSTART:20251002T183000
DTEND:20251002T193500
SUMMARY:State Farm vs. KPMG
DESCRIPTION:A Division Women - City of Richardson Corporate Challenge<br>Sponsored by State Farm
LOCATION:Huffhines Rec Center
CATEGORIES:QuickScores; Pickleball Game
TRANSP:0
DALARM:20251002T163000;PT10M;2;State Farm vs. KPMG
END:VEVENT
BEGIN:VEVENT
DTSTART:20251002T183000
DTEND:20251002T193500
SUMMARY:Texas Instruments vs. State Farm
DESCRIPTION:A Division Women - City of Richardson Corporate Challenge<br>Sponsored by State Farm
LOCATION:Huffhines Rec Center
CATEGORIES:QuickScores; Pickleball Game
TRANSP:0
DALARM:20251002T163000;PT10M;2;Texas Instruments vs. State Farm
END:VEVENT
END:VCALENDAR
