BEGIN:VCALENDAR
VERSION:1.0
BEGIN:VEVENT
DTSTART:20250827T183000
DTEND:20250827T193000
SUMMARY:National Life Group vs. The Godsey Law Firm
DESCRIPTION:E Division Women - City of Richardson Corporate Challenge<br>Sponsored by State Farm
LOCATION:Huffhines Tennis Center
CATEGORIES:QuickScores; Horseshoes Game
TRANSP:0
DALARM:20250827T163000;PT10M;2;National Life Group vs. The Godsey Law Firm
END:VEVENT
END:VCALENDAR
