BEGIN:VCALENDAR
VERSION:1.0
BEGIN:VEVENT
DTSTART:20250827T183000
DTEND:20250827T193000
SUMMARY:FM vs. REPKON USA
DESCRIPTION:E Division Mixed - City of Richardson Corporate Challenge<br>Sponsored by State Farm
LOCATION:Huffhines Tennis Center
CATEGORIES:QuickScores; Horseshoes Game
TRANSP:0
DALARM:20250827T163000;PT10M;2;FM vs. REPKON USA
END:VEVENT
BEGIN:VEVENT
DTSTART:20250827T000000
DTEND:20250827T000000
SUMMARY:FM vs. Torq
DESCRIPTION:E Division Mixed - City of Richardson Corporate Challenge<br>Sponsored by State Farm
LOCATION:Huffhines Tennis Center
CATEGORIES:QuickScores; Horseshoes Game
TRANSP:0
DALARM:20250827T000000;PT10M;2;FM vs. Torq
END:VEVENT
BEGIN:VEVENT
DTSTART:20250827T000000
DTEND:20250827T000000
SUMMARY:FM vs. Torq
DESCRIPTION:E Division Mixed - City of Richardson Corporate Challenge<br>Sponsored by State Farm
LOCATION:Huffhines Tennis Center
CATEGORIES:QuickScores; Horseshoes Game
TRANSP:0
DALARM:20250827T000000;PT10M;2;FM vs. Torq
END:VEVENT
END:VCALENDAR
