BEGIN:VCALENDAR
VERSION:1.0
BEGIN:VEVENT
DTSTART:20250825T183000
DTEND:20250825T193000
SUMMARY:Childress Companies vs. Slalom
DESCRIPTION:D Division Women - City of Richardson Corporate Challenge<br>Sponsored by State Farm
LOCATION:Huffhines Tennis Center
CATEGORIES:QuickScores; Horseshoes Game
TRANSP:0
DALARM:20250825T163000;PT10M;2;Childress Companies vs. Slalom
END:VEVENT
BEGIN:VEVENT
DTSTART:20250825T000000
DTEND:20250825T000000
SUMMARY:Ally vs. Slalom
DESCRIPTION:D Division Women - City of Richardson Corporate Challenge<br>Sponsored by State Farm
CATEGORIES:QuickScores; Horseshoes Game
TRANSP:0
DALARM:20250825T000000;PT10M;2;Ally vs. Slalom
END:VEVENT
END:VCALENDAR
