BEGIN:VCALENDAR
VERSION:1.0
BEGIN:VEVENT
DTSTART:20250913T153000
DTEND:20250913T163000
SUMMARY:BMO vs. Moss Adams/Baker Tilly
DESCRIPTION:F Division Women - City of Richardson Corporate Challenge<br>Sponsored by State Farm
LOCATION:Huffhines Softball Complex
CATEGORIES:QuickScores; Cornhole Game
TRANSP:0
DALARM:20250913T133000;PT10M;2;BMO vs. Moss Adams/Baker Tilly
END:VEVENT
BEGIN:VEVENT
DTSTART:20250913T000000
DTEND:20250913T000000
SUMMARY:Airbus vs. BMO
DESCRIPTION:F Division Women - City of Richardson Corporate Challenge<br>Sponsored by State Farm
CATEGORIES:QuickScores; Cornhole Game
TRANSP:0
DALARM:20250913T000000;PT10M;2;Airbus vs. BMO
END:VEVENT
BEGIN:VEVENT
DTSTART:20250913T000000
DTEND:20250913T000000
SUMMARY:Moss Adams/Baker Tilly vs. BMO
DESCRIPTION:F Division Women - City of Richardson Corporate Challenge<br>Sponsored by State Farm
CATEGORIES:QuickScores; Cornhole Game
TRANSP:0
DALARM:20250913T000000;PT10M;2;Moss Adams/Baker Tilly vs. BMO
END:VEVENT
BEGIN:VEVENT
DTSTART:20250913T000000
DTEND:20250913T000000
SUMMARY:AWS vs. BMO
DESCRIPTION:F Division Women - City of Richardson Corporate Challenge<br>Sponsored by State Farm
CATEGORIES:QuickScores; Cornhole Game
TRANSP:0
DALARM:20250913T000000;PT10M;2;AWS vs. BMO
END:VEVENT
BEGIN:VEVENT
DTSTART:20250913T000000
DTEND:20250913T000000
SUMMARY:Contelec vs. BMO
DESCRIPTION:F Division Women - City of Richardson Corporate Challenge<br>Sponsored by State Farm
CATEGORIES:QuickScores; Cornhole Game
TRANSP:0
DALARM:20250913T000000;PT10M;2;Contelec vs. BMO
END:VEVENT
BEGIN:VEVENT
DTSTART:20250913T000000
DTEND:20250913T000000
SUMMARY:BMO vs. Contelec
DESCRIPTION:F Division Women - City of Richardson Corporate Challenge<br>Sponsored by State Farm
CATEGORIES:QuickScores; Cornhole Game
TRANSP:0
DALARM:20250913T000000;PT10M;2;BMO vs. Contelec
END:VEVENT
END:VCALENDAR
