BEGIN:VCALENDAR
VERSION:1.0
BEGIN:VEVENT
DTSTART:20250926T183000
DTEND:20250926T193000
SUMMARY:Hilton vs. ISN
DESCRIPTION:C Division Men - City of Richardson Corporate Challenge<br>Sponsored by State Farm
LOCATION:The Billiard Den
CATEGORIES:QuickScores; Billiards Game
TRANSP:0
DALARM:20250926T163000;PT10M;2;Hilton vs. ISN
END:VEVENT
BEGIN:VEVENT
DTSTART:20250926T000000
DTEND:20250926T000000
SUMMARY:Hilton vs. Freese and Nichols
DESCRIPTION:C Division Men - City of Richardson Corporate Challenge<br>Sponsored by State Farm
LOCATION:The Billiard Den
CATEGORIES:QuickScores; Billiards Game
TRANSP:0
DALARM:20250926T000000;PT10M;2;Hilton vs. Freese and Nichols
END:VEVENT
BEGIN:VEVENT
DTSTART:20250926T000000
DTEND:20250926T000000
SUMMARY:CUTX vs. Hilton
DESCRIPTION:C Division Men - City of Richardson Corporate Challenge<br>Sponsored by State Farm
LOCATION:The Billiard Den
CATEGORIES:QuickScores; Billiards Game
TRANSP:0
DALARM:20250926T000000;PT10M;2;CUTX vs. Hilton
END:VEVENT
END:VCALENDAR
