BEGIN:VCALENDAR
VERSION:1.0
BEGIN:VEVENT
DTSTART:20250925T183000
DTEND:20250925T193000
SUMMARY:COR vs. Geico
DESCRIPTION:B Division Women - City of Richardson Corporate Challenge<br>Sponsored by State Farm
LOCATION:The Billiard Den
CATEGORIES:QuickScores; Billiards Game
TRANSP:0
DALARM:20250925T163000;PT10M;2;COR vs. Geico
END:VEVENT
END:VCALENDAR
