BEGIN:VCALENDAR
VERSION:1.0
BEGIN:VEVENT
DTSTART:20250920T150000
DTEND:20250920T160000
SUMMARY:Continental Electronics vs. Airbus
DESCRIPTION:F Division - City of Richardson Corporate Challenge<br>Sponsored by State Farm
LOCATION:Huffhines Softball Field 4
CATEGORIES:QuickScores; Softball Game
TRANSP:0
DALARM:20250920T130000;PT10M;2;Continental Electronics vs. Airbus
END:VEVENT
BEGIN:VEVENT
DTSTART:20250920T170000
DTEND:20250920T180000
SUMMARY:Airbus vs. Amazon Web Services
DESCRIPTION:F Division - City of Richardson Corporate Challenge<br>Sponsored by State Farm
LOCATION:Huffhines Softball Field 2
CATEGORIES:QuickScores; Softball Game
TRANSP:0
DALARM:20250920T150000;PT10M;2;Airbus vs. Amazon Web Services
END:VEVENT
BEGIN:VEVENT
DTSTART:20250921T150000
DTEND:20250921T160000
SUMMARY:[1] Airbus vs. [4] Amazon Web Services
DESCRIPTION:F Division - City of Richardson Corporate Challenge<br>Sponsored by State Farm
LOCATION:Huffhines Softball Field 3
CATEGORIES:QuickScores; Softball Game
TRANSP:0
DALARM:20250921T130000;PT10M;2;[1] Airbus vs. [4] Amazon Web Services
END:VEVENT
BEGIN:VEVENT
DTSTART:20250921T160000
DTEND:20250921T170000
SUMMARY:[1] Airbus vs. [2] Moss Adams x Baker Tilly
DESCRIPTION:F Division - City of Richardson Corporate Challenge<br>Sponsored by State Farm
LOCATION:Huffhines Softball Field 1
CATEGORIES:QuickScores; Softball Game
TRANSP:0
DALARM:20250921T140000;PT10M;2;[1] Airbus vs. [2] Moss Adams x Baker Tilly
END:VEVENT
END:VCALENDAR
