BEGIN:VCALENDAR
VERSION:1.0
BEGIN:VEVENT
DTSTART:20250919T213000
DTEND:20250919T223000
SUMMARY:REPKON USA vs. The Godsey Law Firm
DESCRIPTION:E Division - City of Richardson Corporate Challenge<br>Sponsored by State Farm
LOCATION:Huffhines Softball Field 2
CATEGORIES:QuickScores; Softball Game
TRANSP:0
DALARM:20250919T193000;PT10M;2;REPKON USA vs. The Godsey Law Firm
END:VEVENT
BEGIN:VEVENT
DTSTART:20250920T140000
DTEND:20250920T150000
SUMMARY:The Godsey Law Firm vs. Torq
DESCRIPTION:E Division - City of Richardson Corporate Challenge<br>Sponsored by State Farm
LOCATION:Huffhines Softball Field 4
CATEGORIES:QuickScores; Softball Game
TRANSP:0
DALARM:20250920T120000;PT10M;2;The Godsey Law Firm vs. Torq
END:VEVENT
END:VCALENDAR
