BEGIN:VCALENDAR
VERSION:1.0
BEGIN:VEVENT
DTSTART:20250919T213000
DTEND:20250919T223000
SUMMARY:Torq vs. FM
DESCRIPTION:E Division - City of Richardson Corporate Challenge<br>Sponsored by State Farm
LOCATION:Huffhines Softball Field 1
CATEGORIES:QuickScores; Softball Game
TRANSP:0
DALARM:20250919T193000;PT10M;2;Torq vs. FM
END:VEVENT
BEGIN:VEVENT
DTSTART:20250920T160000
DTEND:20250920T170000
SUMMARY:FM vs. National Life Group
DESCRIPTION:E Division - City of Richardson Corporate Challenge<br>Sponsored by State Farm
LOCATION:Huffhines Softball Field 2
CATEGORIES:QuickScores; Softball Game
TRANSP:0
DALARM:20250920T140000;PT10M;2;FM vs. National Life Group
END:VEVENT
END:VCALENDAR
