BEGIN:VCALENDAR
VERSION:1.0
BEGIN:VEVENT
DTSTART:20250920T120000
DTEND:20250920T130000
SUMMARY:Sendero Consulting vs. Analog Devices
DESCRIPTION:D Division - City of Richardson Corporate Challenge<br>Sponsored by State Farm
LOCATION:Huffhines Softball Field 2
CATEGORIES:QuickScores; Softball Game
TRANSP:0
DALARM:20250920T100000;PT10M;2;Sendero Consulting vs. Analog Devices
END:VEVENT
BEGIN:VEVENT
DTSTART:20250920T130000
DTEND:20250920T140000
SUMMARY:L3Harris vs. Sendero Consulting
DESCRIPTION:D Division - City of Richardson Corporate Challenge<br>Sponsored by State Farm
LOCATION:Huffhines Softball Field 4
CATEGORIES:QuickScores; Softball Game
TRANSP:0
DALARM:20250920T110000;PT10M;2;L3Harris vs. Sendero Consulting
END:VEVENT
BEGIN:VEVENT
DTSTART:20250921T120000
DTEND:20250921T130000
SUMMARY:[A1] Ally vs. [B2] Sendero Consulting
DESCRIPTION:D Division - City of Richardson Corporate Challenge<br>Sponsored by State Farm
LOCATION:Huffhines Softball Field 3
CATEGORIES:QuickScores; Softball Game
TRANSP:0
DALARM:20250921T100000;PT10M;2;[A1] Ally vs. [B2] Sendero Consulting
END:VEVENT
BEGIN:VEVENT
DTSTART:20250921T140000
DTEND:20250921T150000
SUMMARY:[B2] Sendero Consulting vs. [B1] Slalom
DESCRIPTION:D Division - City of Richardson Corporate Challenge<br>Sponsored by State Farm
LOCATION:Huffhines Softball Field 3
CATEGORIES:QuickScores; Softball Game
TRANSP:0
DALARM:20250921T120000;PT10M;2;[B2] Sendero Consulting vs. [B1] Slalom
END:VEVENT
END:VCALENDAR
