BEGIN:VCALENDAR
VERSION:1.0
BEGIN:VEVENT
DTSTART:20250920T120000
DTEND:20250920T130000
SUMMARY:Childress Companies vs. Ally
DESCRIPTION:D Division - City of Richardson Corporate Challenge<br>Sponsored by State Farm
LOCATION:Huffhines Softball Field 1
CATEGORIES:QuickScores; Softball Game
TRANSP:0
DALARM:20250920T100000;PT10M;2;Childress Companies vs. Ally
END:VEVENT
BEGIN:VEVENT
DTSTART:20250920T150000
DTEND:20250920T160000
SUMMARY:Slalom vs. Childress Companies
DESCRIPTION:D Division - City of Richardson Corporate Challenge<br>Sponsored by State Farm
LOCATION:Huffhines Softball Field 2
CATEGORIES:QuickScores; Softball Game
TRANSP:0
DALARM:20250920T130000;PT10M;2;Slalom vs. Childress Companies
END:VEVENT
END:VCALENDAR
