BEGIN:VCALENDAR
VERSION:1.0
BEGIN:VEVENT
DTSTART:20250920T100000
DTEND:20250920T110000
SUMMARY:ISN vs. Leonardo DRS
DESCRIPTION:C Division - City of Richardson Corporate Challenge<br>Sponsored by State Farm
LOCATION:Huffhines Softball Field 3
CATEGORIES:QuickScores; Softball Game
TRANSP:0
DALARM:20250920T080000;PT10M;2;ISN vs. Leonardo DRS
END:VEVENT
BEGIN:VEVENT
DTSTART:20250920T110000
DTEND:20250920T120000
SUMMARY:UTD vs. ISN
DESCRIPTION:C Division - City of Richardson Corporate Challenge<br>Sponsored by State Farm
LOCATION:Huffhines Softball Field 3
CATEGORIES:QuickScores; Softball Game
TRANSP:0
DALARM:20250920T090000;PT10M;2;UTD vs. ISN
END:VEVENT
BEGIN:VEVENT
DTSTART:20250920T120000
DTEND:20250920T130000
SUMMARY:ISN vs. Fossil
DESCRIPTION:C Division - City of Richardson Corporate Challenge<br>Sponsored by State Farm
LOCATION:Huffhines Softball Field 4
CATEGORIES:QuickScores; Softball Game
TRANSP:0
DALARM:20250920T100000;PT10M;2;ISN vs. Fossil
END:VEVENT
BEGIN:VEVENT
DTSTART:20250921T120000
DTEND:20250921T130000
SUMMARY:[B1] ISN vs. [A2] Hilton
DESCRIPTION:C Division - City of Richardson Corporate Challenge<br>Sponsored by State Farm
LOCATION:Huffhines Softball Field 2
CATEGORIES:QuickScores; Softball Game
TRANSP:0
DALARM:20250921T100000;PT10M;2;[B1] ISN vs. [A2] Hilton
END:VEVENT
BEGIN:VEVENT
DTSTART:20250921T140000
DTEND:20250921T150000
SUMMARY:[B2] UTD vs. [B1] ISN
DESCRIPTION:C Division - City of Richardson Corporate Challenge<br>Sponsored by State Farm
LOCATION:Huffhines Softball Field 2
CATEGORIES:QuickScores; Softball Game
TRANSP:0
DALARM:20250921T120000;PT10M;2;[B2] UTD vs. [B1] ISN
END:VEVENT
END:VCALENDAR
