BEGIN:VCALENDAR
VERSION:1.0
BEGIN:VEVENT
DTSTART:20250920T100000
DTEND:20250920T110000
SUMMARY:Hilton vs. Freese and Nichols
DESCRIPTION:forfeit due to ineligible player --- C Division - City of Richardson Corporate Challenge<br>Sponsored by State Farm
LOCATION:Huffhines Softball Field 4
CATEGORIES:QuickScores; Softball Game
TRANSP:0
DALARM:20250920T080000;PT10M;2;Hilton vs. Freese and Nichols
END:VEVENT
BEGIN:VEVENT
DTSTART:20250920T110000
DTEND:20250920T120000
SUMMARY:Hilton vs. Credit Union of Texas
DESCRIPTION:forfeit due to ineligible player --- C Division - City of Richardson Corporate Challenge<br>Sponsored by State Farm
LOCATION:Huffhines Softball Field 4
CATEGORIES:QuickScores; Softball Game
TRANSP:0
DALARM:20250920T090000;PT10M;2;Hilton vs. Credit Union of Texas
END:VEVENT
BEGIN:VEVENT
DTSTART:20250920T130000
DTEND:20250920T140000
SUMMARY:Oncor vs. Hilton
DESCRIPTION:forfeit due to ineligible player --- C Division - City of Richardson Corporate Challenge<br>Sponsored by State Farm
LOCATION:Huffhines Softball Field 2
CATEGORIES:QuickScores; Softball Game
TRANSP:0
DALARM:20250920T110000;PT10M;2;Oncor vs. Hilton
END:VEVENT
BEGIN:VEVENT
DTSTART:20250921T120000
DTEND:20250921T130000
SUMMARY:[B1] ISN vs. [A2] Hilton
DESCRIPTION:C Division - City of Richardson Corporate Challenge<br>Sponsored by State Farm
LOCATION:Huffhines Softball Field 2
CATEGORIES:QuickScores; Softball Game
TRANSP:0
DALARM:20250921T100000;PT10M;2;[B1] ISN vs. [A2] Hilton
END:VEVENT
BEGIN:VEVENT
DTSTART:20250921T140000
DTEND:20250921T150000
SUMMARY:[A1] Oncor vs. [A2] Hilton
DESCRIPTION:C Division - City of Richardson Corporate Challenge<br>Sponsored by State Farm
LOCATION:Huffhines Softball Field 1
CATEGORIES:QuickScores; Softball Game
TRANSP:0
DALARM:20250921T120000;PT10M;2;[A1] Oncor vs. [A2] Hilton
END:VEVENT
END:VCALENDAR
