BEGIN:VCALENDAR
VERSION:1.0
BEGIN:VEVENT
DTSTART:20250920T110000
DTEND:20250920T120000
SUMMARY:Hilton vs. Credit Union of Texas
DESCRIPTION:forfeit due to ineligible player --- C Division - City of Richardson Corporate Challenge<br>Sponsored by State Farm
LOCATION:Huffhines Softball Field 4
CATEGORIES:QuickScores; Softball Game
TRANSP:0
DALARM:20250920T090000;PT10M;2;Hilton vs. Credit Union of Texas
END:VEVENT
BEGIN:VEVENT
DTSTART:20250920T130000
DTEND:20250920T140000
SUMMARY:Credit Union of Texas vs. Freese and Nichols
DESCRIPTION:C Division - City of Richardson Corporate Challenge<br>Sponsored by State Farm
LOCATION:Huffhines Softball Field 3
CATEGORIES:QuickScores; Softball Game
TRANSP:0
DALARM:20250920T110000;PT10M;2;Credit Union of Texas vs. Freese and Nichols
END:VEVENT
BEGIN:VEVENT
DTSTART:20250920T140000
DTEND:20250920T150000
SUMMARY:Credit Union of Texas vs. Oncor
DESCRIPTION:C Division - City of Richardson Corporate Challenge<br>Sponsored by State Farm
LOCATION:Huffhines Softball Field 2
CATEGORIES:QuickScores; Softball Game
TRANSP:0
DALARM:20250920T120000;PT10M;2;Credit Union of Texas vs. Oncor
END:VEVENT
END:VCALENDAR
