BEGIN:VCALENDAR
VERSION:1.0
BEGIN:VEVENT
DTSTART:20250919T193000
DTEND:20250919T203000
SUMMARY:Globe Life vs. Geico
DESCRIPTION:B Division - City of Richardson Corporate Challenge<br>Sponsored by State Farm
LOCATION:Huffhines Softball Field 4
CATEGORIES:QuickScores; Softball Game
TRANSP:0
DALARM:20250919T173000;PT10M;2;Globe Life vs. Geico
END:VEVENT
BEGIN:VEVENT
DTSTART:20250920T100000
DTEND:20250920T110000
SUMMARY:Geico vs. City of Richardson
DESCRIPTION:B Division - City of Richardson Corporate Challenge<br>Sponsored by State Farm
LOCATION:Huffhines Softball Field 2
CATEGORIES:QuickScores; Softball Game
TRANSP:0
DALARM:20250920T080000;PT10M;2;Geico vs. City of Richardson
END:VEVENT
BEGIN:VEVENT
DTSTART:20250921T100000
DTEND:20250921T110000
SUMMARY:[B2] Geico vs. [C2] HF Sinclair
DESCRIPTION:B Division - City of Richardson Corporate Challenge<br>Sponsored by State Farm
LOCATION:Huffhines Softball Field 3
CATEGORIES:QuickScores; Softball Game
TRANSP:0
DALARM:20250921T080000;PT10M;2;[B2] Geico vs. [C2] HF Sinclair
END:VEVENT
END:VCALENDAR
