BEGIN:VCALENDAR
VERSION:1.0
BEGIN:VEVENT
DTSTART:20250902T183000
DTEND:20250902T193500
SUMMARY:Freese and Nichols vs. Leonardo DRS
DESCRIPTION:C Division - City of Richardson Corporate Challenge<br>Sponsored by State Farm
LOCATION:Carpenter Park Field D
CATEGORIES:QuickScores; Soccer Game
TRANSP:0
DALARM:20250902T163000;PT10M;2;Freese and Nichols vs. Leonardo DRS
END:VEVENT
BEGIN:VEVENT
DTSTART:20250903T204000
DTEND:20250903T214500
SUMMARY:Freese and Nichols vs. UTD
DESCRIPTION:C Division - City of Richardson Corporate Challenge<br>Sponsored by State Farm
LOCATION:Carpenter Park Field B
CATEGORIES:QuickScores; Soccer Game
TRANSP:0
DALARM:20250903T184000;PT10M;2;Freese and Nichols vs. UTD
END:VEVENT
BEGIN:VEVENT
DTSTART:20250904T183000
DTEND:20250904T193500
SUMMARY:ISN vs. Freese and Nichols
DESCRIPTION:C Division - City of Richardson Corporate Challenge<br>Sponsored by State Farm
LOCATION:Carpenter Park Field B
CATEGORIES:QuickScores; Soccer Game
TRANSP:0
DALARM:20250904T163000;PT10M;2;ISN vs. Freese and Nichols
END:VEVENT
END:VCALENDAR
