BEGIN:VCALENDAR
VERSION:1.0
BEGIN:VEVENT
DTSTART:20250902T204000
DTEND:20250902T214500
SUMMARY:Oncor vs. Credit Union of Texas
DESCRIPTION:C Division - City of Richardson Corporate Challenge<br>Sponsored by State Farm
LOCATION:Carpenter Park Field B
CATEGORIES:QuickScores; Soccer Game
TRANSP:0
DALARM:20250902T184000;PT10M;2;Oncor vs. Credit Union of Texas
END:VEVENT
BEGIN:VEVENT
DTSTART:20250903T183000
DTEND:20250903T193500
SUMMARY:Credit Union of Texas vs. Fossil
DESCRIPTION:C Division - City of Richardson Corporate Challenge<br>Sponsored by State Farm
LOCATION:Carpenter Park Field D
CATEGORIES:QuickScores; Soccer Game
TRANSP:0
DALARM:20250903T163000;PT10M;2;Credit Union of Texas vs. Fossil
END:VEVENT
BEGIN:VEVENT
DTSTART:20250904T183000
DTEND:20250904T193500
SUMMARY:Hilton vs. Credit Union of Texas
DESCRIPTION:C Division - City of Richardson Corporate Challenge<br>Sponsored by State Farm
LOCATION:Carpenter Park Field A
CATEGORIES:QuickScores; Soccer Game
TRANSP:0
DALARM:20250904T163000;PT10M;2;Hilton vs. Credit Union of Texas
END:VEVENT
END:VCALENDAR
