BEGIN:VCALENDAR
VERSION:1.0
BEGIN:VEVENT
DTSTART:20250903T183000
DTEND:20250903T193500
SUMMARY:Texas Capital Bank vs. HF Sinclair
DESCRIPTION:B Division - City of Richardson Corporate Challenge<br>Sponsored by State Farm
LOCATION:Carpenter Park Field B
CATEGORIES:QuickScores; Soccer Game
TRANSP:0
DALARM:20250903T163000;PT10M;2;Texas Capital Bank vs. HF Sinclair
END:VEVENT
BEGIN:VEVENT
DTSTART:20250904T193500
DTEND:20250904T204000
SUMMARY:LJA Engineering vs. Texas Capital Bank
DESCRIPTION:B Division - City of Richardson Corporate Challenge<br>Sponsored by State Farm
LOCATION:Carpenter Park Field B
CATEGORIES:QuickScores; Soccer Game
TRANSP:0
DALARM:20250904T173500;PT10M;2;LJA Engineering vs. Texas Capital Bank
END:VEVENT
BEGIN:VEVENT
DTSTART:20250911T192000
DTEND:20250911T202000
SUMMARY:[B2] City of Richardson vs. [C2] Texas Capital Bank
DESCRIPTION:B Division - City of Richardson Corporate Challenge<br>Sponsored by State Farm
LOCATION:Carpenter Park Field C
CATEGORIES:QuickScores; Soccer Game
TRANSP:0
DALARM:20250911T172000;PT10M;2;[B2] City of Richardson vs. [C2] Texas Capital Bank
END:VEVENT
BEGIN:VEVENT
DTSTART:20250911T213000
DTEND:20250911T223000
SUMMARY:[A1] 7-Eleven vs. [C2] Texas Capital Bank
DESCRIPTION:B Division - City of Richardson Corporate Challenge<br>Sponsored by State Farm
LOCATION:Carpenter Park Field C
CATEGORIES:QuickScores; Soccer Game
TRANSP:0
DALARM:20250911T193000;PT10M;2;[A1] 7-Eleven vs. [C2] Texas Capital Bank
END:VEVENT
BEGIN:VEVENT
DTSTART:20250912T202500
DTEND:20250912T212500
SUMMARY:[C2] Texas Capital Bank vs. [A2] Baylor Heart Hospital
DESCRIPTION:B Division - City of Richardson Corporate Challenge<br>Sponsored by State Farm
LOCATION:Carpenter Park Field A
CATEGORIES:QuickScores; Soccer Game
TRANSP:0
DALARM:20250912T182500;PT10M;2;[C2] Texas Capital Bank vs. [A2] Baylor Heart Hospital
END:VEVENT
END:VCALENDAR
