BEGIN:VCALENDAR
VERSION:1.0
BEGIN:VEVENT
DTSTART:20250902T193500
DTEND:20250902T204000
SUMMARY:Geico vs. Cisco
DESCRIPTION:B Division - City of Richardson Corporate Challenge<br>Sponsored by State Farm
LOCATION:Carpenter Park Field D
CATEGORIES:QuickScores; Soccer Game
TRANSP:0
DALARM:20250902T173500;PT10M;2;Geico vs. Cisco
END:VEVENT
BEGIN:VEVENT
DTSTART:20250903T193500
DTEND:20250903T204000
SUMMARY:City of Richardson vs. Geico
DESCRIPTION:B Division - City of Richardson Corporate Challenge<br>Sponsored by State Farm
LOCATION:Carpenter Park Field D
CATEGORIES:QuickScores; Soccer Game
TRANSP:0
DALARM:20250903T173500;PT10M;2;City of Richardson vs. Geico
END:VEVENT
END:VCALENDAR
