BEGIN:VCALENDAR
VERSION:1.0
BEGIN:VEVENT
DTSTART:20250903T193500
DTEND:20250903T204000
SUMMARY:Texas Instruments vs. EY
DESCRIPTION:A Division - City of Richardson Corporate Challenge<br>Sponsored by State Farm
LOCATION:Carpenter Park Field B
CATEGORIES:QuickScores; Soccer Game
TRANSP:0
DALARM:20250903T173500;PT10M;2;Texas Instruments vs. EY
END:VEVENT
BEGIN:VEVENT
DTSTART:20250904T204000
DTEND:20250904T214500
SUMMARY:State Farm vs. Texas Instruments
DESCRIPTION:A Division - City of Richardson Corporate Challenge<br>Sponsored by State Farm
LOCATION:Carpenter Park Field B
CATEGORIES:QuickScores; Soccer Game
TRANSP:0
DALARM:20250904T184000;PT10M;2;State Farm vs. Texas Instruments
END:VEVENT
BEGIN:VEVENT
DTSTART:20250911T181500
DTEND:20250911T191500
SUMMARY:[C1] Texas Instruments vs. [A2] Lennox
DESCRIPTION:A Division - City of Richardson Corporate Challenge<br>Sponsored by State Farm
LOCATION:Carpenter Park Field D
CATEGORIES:QuickScores; Soccer Game
TRANSP:0
DALARM:20250911T161500;PT10M;2;[C1] Texas Instruments vs. [A2] Lennox
END:VEVENT
BEGIN:VEVENT
DTSTART:20250911T202500
DTEND:20250911T213000
SUMMARY:[B1] RTX vs. [C1] Texas Instruments
DESCRIPTION:A Division - City of Richardson Corporate Challenge<br>Sponsored by State Farm
LOCATION:Carpenter Park Field D
CATEGORIES:QuickScores; Soccer Game
TRANSP:0
DALARM:20250911T182500;PT10M;2;[B1] RTX vs. [C1] Texas Instruments
END:VEVENT
BEGIN:VEVENT
DTSTART:20250912T181500
DTEND:20250912T192000
SUMMARY:[A1] PepsiCo vs. [C1] Texas Instruments
DESCRIPTION:A Division - City of Richardson Corporate Challenge<br>Sponsored by State Farm
LOCATION:Carpenter Park Field A
CATEGORIES:QuickScores; Soccer Game
TRANSP:0
DALARM:20250912T161500;PT10M;2;[A1] PepsiCo vs. [C1] Texas Instruments
END:VEVENT
END:VCALENDAR
