BEGIN:VCALENDAR
VERSION:1.0
BEGIN:VEVENT
DTSTART:20250926T213000
DTEND:20250926T223000
SUMMARY:Moss Adams x Baker Tilly vs. BMO Bank
DESCRIPTION:F Division - City of Richardson Corporate Challenge<br>Sponsored by State Farm
LOCATION:Huffhines #1
CATEGORIES:QuickScores; Kickball Game
TRANSP:0
DALARM:20250926T193000;PT10M;2;Moss Adams x Baker Tilly vs. BMO Bank
END:VEVENT
BEGIN:VEVENT
DTSTART:20250927T160000
DTEND:20250927T170000
SUMMARY:Continental Electronics vs. Moss Adams x Baker Tilly
DESCRIPTION:F Division - City of Richardson Corporate Challenge<br>Sponsored by State Farm
LOCATION:Huffhines #1
CATEGORIES:QuickScores; Kickball Game
TRANSP:0
DALARM:20250927T140000;PT10M;2;Continental Electronics vs. Moss Adams x Baker Tilly
END:VEVENT
BEGIN:VEVENT
DTSTART:20250928T150000
DTEND:20250928T160000
SUMMARY:[1] Continental Electronics vs. [4] Moss Adams x Baker Tilly
DESCRIPTION:F Division - City of Richardson Corporate Challenge<br>Sponsored by State Farm
LOCATION:Huffhines #3
CATEGORIES:QuickScores; Kickball Game
TRANSP:0
DALARM:20250928T130000;PT10M;2;[1] Continental Electronics vs. [4] Moss Adams x Baker Tilly
END:VEVENT
BEGIN:VEVENT
DTSTART:20250928T160000
DTEND:20250928T170000
SUMMARY:[4] Moss Adams x Baker Tilly vs. [3] Airbus
DESCRIPTION:F Division - City of Richardson Corporate Challenge<br>Sponsored by State Farm
LOCATION:Huffhines #3
CATEGORIES:QuickScores; Kickball Game
TRANSP:0
DALARM:20250928T140000;PT10M;2;[4] Moss Adams x Baker Tilly vs. [3] Airbus
END:VEVENT
END:VCALENDAR
