BEGIN:VCALENDAR
VERSION:1.0
BEGIN:VEVENT
DTSTART:20250926T213000
DTEND:20250926T223000
SUMMARY:Airbus vs. Continental Electronics
DESCRIPTION:F Division - City of Richardson Corporate Challenge<br>Sponsored by State Farm
LOCATION:Huffhines #2
CATEGORIES:QuickScores; Kickball Game
TRANSP:0
DALARM:20250926T193000;PT10M;2;Airbus vs. Continental Electronics
END:VEVENT
BEGIN:VEVENT
DTSTART:20250927T160000
DTEND:20250927T170000
SUMMARY:BMO Bank vs. Airbus
DESCRIPTION:F Division - City of Richardson Corporate Challenge<br>Sponsored by State Farm
LOCATION:Huffhines #2
CATEGORIES:QuickScores; Kickball Game
TRANSP:0
DALARM:20250927T140000;PT10M;2;BMO Bank vs. Airbus
END:VEVENT
BEGIN:VEVENT
DTSTART:20250928T150000
DTEND:20250928T160000
SUMMARY:[2] BMO Bank vs. [3] Airbus
DESCRIPTION:F Division - City of Richardson Corporate Challenge<br>Sponsored by State Farm
LOCATION:Huffhines #4
CATEGORIES:QuickScores; Kickball Game
TRANSP:0
DALARM:20250928T130000;PT10M;2;[2] BMO Bank vs. [3] Airbus
END:VEVENT
BEGIN:VEVENT
DTSTART:20250928T160000
DTEND:20250928T170000
SUMMARY:[4] Moss Adams x Baker Tilly vs. [3] Airbus
DESCRIPTION:F Division - City of Richardson Corporate Challenge<br>Sponsored by State Farm
LOCATION:Huffhines #3
CATEGORIES:QuickScores; Kickball Game
TRANSP:0
DALARM:20250928T140000;PT10M;2;[4] Moss Adams x Baker Tilly vs. [3] Airbus
END:VEVENT
END:VCALENDAR
