BEGIN:VCALENDAR
VERSION:1.0
BEGIN:VEVENT
DTSTART:20250927T090000
DTEND:20250927T100000
SUMMARY:State Farm vs. EY
DESCRIPTION:A Division - City of Richardson Corporate Challenge<br>Sponsored by State Farm
LOCATION:Huffhines #1
CATEGORIES:QuickScores; Kickball Game
TRANSP:0
DALARM:20250927T070000;PT10M;2;State Farm vs. EY
END:VEVENT
BEGIN:VEVENT
DTSTART:20250927T100000
DTEND:20250927T110000
SUMMARY:EY vs. Texas Instruments
DESCRIPTION:A Division - City of Richardson Corporate Challenge<br>Sponsored by State Farm
LOCATION:Huffhines #4
CATEGORIES:QuickScores; Kickball Game
TRANSP:0
DALARM:20250927T080000;PT10M;2;EY vs. Texas Instruments
END:VEVENT
BEGIN:VEVENT
DTSTART:20250928T100000
DTEND:20250928T110000
SUMMARY:[B2] McKesson vs. [C2] EY
DESCRIPTION:A Division - City of Richardson Corporate Challenge<br>Sponsored by State Farm
LOCATION:Huffhines #1
CATEGORIES:QuickScores; Kickball Game
TRANSP:0
DALARM:20250928T080000;PT10M;2;[B2] McKesson vs. [C2] EY
END:VEVENT
BEGIN:VEVENT
DTSTART:20250928T110000
DTEND:20250928T120000
SUMMARY:[A1] PepsiCo vs. [C2] EY
DESCRIPTION:A Division - City of Richardson Corporate Challenge<br>Sponsored by State Farm
LOCATION:Huffhines #1
CATEGORIES:QuickScores; Kickball Game
TRANSP:0
DALARM:20250928T090000;PT10M;2;[A1] PepsiCo vs. [C2] EY
END:VEVENT
BEGIN:VEVENT
DTSTART:20250928T130000
DTEND:20250928T140000
SUMMARY:[C2] EY vs. [B1] RTX
DESCRIPTION:A Division - City of Richardson Corporate Challenge<br>Sponsored by State Farm
LOCATION:Huffhines #2
CATEGORIES:QuickScores; Kickball Game
TRANSP:0
DALARM:20250928T110000;PT10M;2;[C2] EY vs. [B1] RTX
END:VEVENT
END:VCALENDAR
