BEGIN:VCALENDAR
VERSION:1.0
BEGIN:VEVENT
DTSTART:20250905T183000
DTEND:20250905T193000
SUMMARY:EY vs. Texas Instruments
DESCRIPTION:A Division - City of Richardson Corporate Challenge<br>Sponsored by State Farm
LOCATION:Keffler Field #1   (Breckinridge Park)
CATEGORIES:QuickScores; Flag Football Game
TRANSP:0
DALARM:20250905T163000;PT10M;2;EY vs. Texas Instruments
END:VEVENT
BEGIN:VEVENT
DTSTART:20250906T110000
DTEND:20250906T120000
SUMMARY:KPMG vs. EY
DESCRIPTION:A Division - City of Richardson Corporate Challenge<br>Sponsored by State Farm
LOCATION:Keffler Field #1   (Breckinridge Park)
CATEGORIES:QuickScores; Flag Football Game
TRANSP:0
DALARM:20250906T090000;PT10M;2;KPMG vs. EY
END:VEVENT
END:VCALENDAR
