BEGIN:VCALENDAR
VERSION:1.0
BEGIN:VEVENT
DTSTART:20250809T160000
DTEND:20250809T170000
SUMMARY:LJA Engineering vs. HF Sinclair
DESCRIPTION:Division B - City of Richardson Corporate Challenge<br>Sponsored by State Farm
LOCATION:Net Results Sports Center #3
CATEGORIES:QuickScores; Volleyball Game
TRANSP:0
DALARM:20250809T140000;PT10M;2;LJA Engineering vs. HF Sinclair
END:VEVENT
BEGIN:VEVENT
DTSTART:20250809T170000
DTEND:20250809T180000
SUMMARY:Texas Capital Bank vs. LJA Engineering
DESCRIPTION:Division B - City of Richardson Corporate Challenge<br>Sponsored by State Farm
LOCATION:Net Results Sports Center #3
CATEGORIES:QuickScores; Volleyball Game
TRANSP:0
DALARM:20250809T150000;PT10M;2;Texas Capital Bank vs. LJA Engineering
END:VEVENT
END:VCALENDAR
