BEGIN:VCALENDAR
VERSION:1.0
BEGIN:VEVENT
DTSTART:20250809T150000
DTEND:20250809T160000
SUMMARY:Cisco vs. 7-Eleven
DESCRIPTION:Division B - City of Richardson Corporate Challenge<br>Sponsored by State Farm
LOCATION:Net Results Sports Center #2
CATEGORIES:QuickScores; Volleyball Game
TRANSP:0
DALARM:20250809T130000;PT10M;2;Cisco vs. 7-Eleven
END:VEVENT
BEGIN:VEVENT
DTSTART:20250809T160000
DTEND:20250809T170000
SUMMARY:Baylor Heart Hospital vs. Cisco
DESCRIPTION:Division B - City of Richardson Corporate Challenge<br>Sponsored by State Farm
LOCATION:Net Results Sports Center #2
CATEGORIES:QuickScores; Volleyball Game
TRANSP:0
DALARM:20250809T140000;PT10M;2;Baylor Heart Hospital vs. Cisco
END:VEVENT
BEGIN:VEVENT
DTSTART:20250810T130000
DTEND:20250810T140000
SUMMARY:[A1] Cisco vs. [C2] HF Sinclair
DESCRIPTION:Division B - City of Richardson Corporate Challenge<br>Sponsored by State Farm
LOCATION:Net Results Sports Center #1
CATEGORIES:QuickScores; Volleyball Game
TRANSP:0
DALARM:20250810T110000;PT10M;2;[A1] Cisco vs. [C2] HF Sinclair
END:VEVENT
BEGIN:VEVENT
DTSTART:20250810T140000
DTEND:20250810T150000
SUMMARY:[A1] Cisco vs. [A2] 7-Eleven
DESCRIPTION:Division B - City of Richardson Corporate Challenge<br>Sponsored by State Farm
LOCATION:Net Results Sports Center #1
CATEGORIES:QuickScores; Volleyball Game
TRANSP:0
DALARM:20250810T120000;PT10M;2;[A1] Cisco vs. [A2] 7-Eleven
END:VEVENT
END:VCALENDAR
