BEGIN:VCALENDAR
VERSION:1.0
BEGIN:VEVENT
DTSTART:20250926T203000
DTEND:20250926T213000
SUMMARY:Leonardo DRS vs. ISN
DESCRIPTION:C Division - City of Richardson Corporate Challenge<br>Sponsored by State Farm
LOCATION:Huffhines #3
CATEGORIES:QuickScores; Kickball Game
TRANSP:0
DALARM:20250926T183000;PT10M;2;Leonardo DRS vs. ISN
END:VEVENT
BEGIN:VEVENT
DTSTART:20250927T110000
DTEND:20250927T120000
SUMMARY:Oncor vs. ISN
DESCRIPTION:C Division - City of Richardson Corporate Challenge<br>Sponsored by State Farm
LOCATION:Huffhines #4
CATEGORIES:QuickScores; Kickball Game
TRANSP:0
DALARM:20250927T090000;PT10M;2;Oncor vs. ISN
END:VEVENT
BEGIN:VEVENT
DTSTART:20250927T120000
DTEND:20250927T130000
SUMMARY:ISN vs. CUTX
DESCRIPTION:C Division - City of Richardson Corporate Challenge<br>Sponsored by State Farm
LOCATION:Huffhines #3
CATEGORIES:QuickScores; Kickball Game
TRANSP:0
DALARM:20250927T100000;PT10M;2;ISN vs. CUTX
END:VEVENT
BEGIN:VEVENT
DTSTART:20250928T120000
DTEND:20250928T130000
SUMMARY:[B1] Fossil vs. [A2] ISN
DESCRIPTION:C Division - City of Richardson Corporate Challenge<br>Sponsored by State Farm
LOCATION:Huffhines #2
CATEGORIES:QuickScores; Kickball Game
TRANSP:0
DALARM:20250928T100000;PT10M;2;[B1] Fossil vs. [A2] ISN
END:VEVENT
BEGIN:VEVENT
DTSTART:20250928T140000
DTEND:20250928T150000
SUMMARY:[A1] Oncor vs. [A2] ISN
DESCRIPTION:C Division - City of Richardson Corporate Challenge<br>Sponsored by State Farm
LOCATION:Huffhines #2
CATEGORIES:QuickScores; Kickball Game
TRANSP:0
DALARM:20250928T120000;PT10M;2;[A1] Oncor vs. [A2] ISN
END:VEVENT
END:VCALENDAR
