BEGIN:VCALENDAR
VERSION:1.0
BEGIN:VEVENT
DTSTART:20250926T203000
DTEND:20250926T213000
SUMMARY:Leonardo DRS vs. ISN
DESCRIPTION:C Division - City of Richardson Corporate Challenge<br>Sponsored by State Farm
LOCATION:Huffhines #3
CATEGORIES:QuickScores; Kickball Game
TRANSP:0
DALARM:20250926T183000;PT10M;2;Leonardo DRS vs. ISN
END:VEVENT
BEGIN:VEVENT
DTSTART:20250927T110000
DTEND:20250927T120000
SUMMARY:CUTX vs. Leonardo DRS
DESCRIPTION:C Division - City of Richardson Corporate Challenge<br>Sponsored by State Farm
LOCATION:Huffhines #3
CATEGORIES:QuickScores; Kickball Game
TRANSP:0
DALARM:20250927T090000;PT10M;2;CUTX vs. Leonardo DRS
END:VEVENT
BEGIN:VEVENT
DTSTART:20250927T120000
DTEND:20250927T130000
SUMMARY:Oncor vs. Leonardo DRS
DESCRIPTION:C Division - City of Richardson Corporate Challenge<br>Sponsored by State Farm
LOCATION:Huffhines #2
CATEGORIES:QuickScores; Kickball Game
TRANSP:0
DALARM:20250927T100000;PT10M;2;Oncor vs. Leonardo DRS
END:VEVENT
END:VCALENDAR
