BEGIN:VCALENDAR
VERSION:1.0
BEGIN:VEVENT
DTSTART:20250927T090000
DTEND:20250927T100000
SUMMARY:RTX vs. KPMG
DESCRIPTION:A Division - City of Richardson Corporate Challenge<br>Sponsored by State Farm
LOCATION:Huffhines #3
CATEGORIES:QuickScores; Kickball Game
TRANSP:0
DALARM:20250927T070000;PT10M;2;RTX vs. KPMG
END:VEVENT
BEGIN:VEVENT
DTSTART:20250927T100000
DTEND:20250927T110000
SUMMARY:KPMG vs. McKesson
DESCRIPTION:A Division - City of Richardson Corporate Challenge<br>Sponsored by State Farm
LOCATION:Huffhines #1
CATEGORIES:QuickScores; Kickball Game
TRANSP:0
DALARM:20250927T080000;PT10M;2;KPMG vs. McKesson
END:VEVENT
END:VCALENDAR
