BEGIN:VCALENDAR
VERSION:1.0
BEGIN:VEVENT
DTSTART:20250926T183000
DTEND:20250926T193000
SUMMARY:Lennox vs. PepsiCo
DESCRIPTION:A Division - City of Richardson Corporate Challenge<br>Sponsored by State Farm
LOCATION:Huffhines #3
CATEGORIES:QuickScores; Kickball Game
TRANSP:0
DALARM:20250926T163000;PT10M;2;Lennox vs. PepsiCo
END:VEVENT
BEGIN:VEVENT
DTSTART:20250927T090000
DTEND:20250927T100000
SUMMARY:PepsiCo vs. Blue Cross Blue Shield
DESCRIPTION:A Division - City of Richardson Corporate Challenge<br>Sponsored by State Farm
LOCATION:Huffhines #2
CATEGORIES:QuickScores; Kickball Game
TRANSP:0
DALARM:20250927T070000;PT10M;2;PepsiCo vs. Blue Cross Blue Shield
END:VEVENT
BEGIN:VEVENT
DTSTART:20250928T110000
DTEND:20250928T120000
SUMMARY:[A1] PepsiCo vs. [C2] EY
DESCRIPTION:A Division - City of Richardson Corporate Challenge<br>Sponsored by State Farm
LOCATION:Huffhines #1
CATEGORIES:QuickScores; Kickball Game
TRANSP:0
DALARM:20250928T090000;PT10M;2;[A1] PepsiCo vs. [C2] EY
END:VEVENT
BEGIN:VEVENT
DTSTART:20250928T130000
DTEND:20250928T140000
SUMMARY:[A1] PepsiCo vs. [C1] Texas Instruments
DESCRIPTION:A Division - City of Richardson Corporate Challenge<br>Sponsored by State Farm
LOCATION:Huffhines #1
CATEGORIES:QuickScores; Kickball Game
TRANSP:0
DALARM:20250928T110000;PT10M;2;[A1] PepsiCo vs. [C1] Texas Instruments
END:VEVENT
END:VCALENDAR
