BEGIN:VCALENDAR
VERSION:1.0
BEGIN:VEVENT
DTSTART:20250906T150000
DTEND:20250906T160000
SUMMARY:Evolv vs. Torq
DESCRIPTION:E Division - City of Richardson Corporate Challenge<br>Sponsored by State Farm
LOCATION:Keffler Field #1   (Breckinridge Park)
CATEGORIES:QuickScores; Flag Football Game
TRANSP:0
DALARM:20250906T130000;PT10M;2;Evolv vs. Torq
END:VEVENT
BEGIN:VEVENT
DTSTART:20250906T170000
DTEND:20250906T180000
SUMMARY:Torq vs. REPKON USA
DESCRIPTION:E Division - City of Richardson Corporate Challenge<br>Sponsored by State Farm
LOCATION:Keffler Field #4   (Breckinridge Park)
CATEGORIES:QuickScores; Flag Football Game
TRANSP:0
DALARM:20250906T150000;PT10M;2;Torq vs. REPKON USA
END:VEVENT
END:VCALENDAR
