BEGIN:VCALENDAR
VERSION:1.0
BEGIN:VEVENT
DTSTART:20250906T160000
DTEND:20250906T170000
SUMMARY:The Godsey Law Firm vs. Savoya
DESCRIPTION:E Division - City of Richardson Corporate Challenge<br>Sponsored by State Farm
LOCATION:Keffler Field #1   (Breckinridge Park)
CATEGORIES:QuickScores; Flag Football Game
TRANSP:0
DALARM:20250906T140000;PT10M;2;The Godsey Law Firm vs. Savoya
END:VEVENT
BEGIN:VEVENT
DTSTART:20250906T170000
DTEND:20250906T180000
SUMMARY:National Life Group vs. The Godsey Law Firm
DESCRIPTION:E Division - City of Richardson Corporate Challenge<br>Sponsored by State Farm
LOCATION:Keffler Field #2   (Breckinridge Park)
CATEGORIES:QuickScores; Flag Football Game
TRANSP:0
DALARM:20250906T150000;PT10M;2;National Life Group vs. The Godsey Law Firm
END:VEVENT
BEGIN:VEVENT
DTSTART:20250906T210000
DTEND:20250906T220000
SUMMARY:FM vs. The Godsey Law Firm
DESCRIPTION:E Division - City of Richardson Corporate Challenge<br>Sponsored by State Farm
LOCATION:Keffler Field #1   (Breckinridge Park)
CATEGORIES:QuickScores; Flag Football Game
TRANSP:0
DALARM:20250906T190000;PT10M;2;FM vs. The Godsey Law Firm
END:VEVENT
BEGIN:VEVENT
DTSTART:20250907T130000
DTEND:20250907T140000
SUMMARY:[A1] The Godsey Law Firm vs. [B2] Evolv
DESCRIPTION:E Division - City of Richardson Corporate Challenge<br>Sponsored by State Farm
LOCATION:Keffler Field #3   (Breckinridge Park)
CATEGORIES:QuickScores; Flag Football Game
TRANSP:0
DALARM:20250907T110000;PT10M;2;[A1] The Godsey Law Firm vs. [B2] Evolv
END:VEVENT
BEGIN:VEVENT
DTSTART:20250907T150000
DTEND:20250907T160000
SUMMARY:[A1] The Godsey Law Firm vs. [A2] FM
DESCRIPTION:E Division - City of Richardson Corporate Challenge<br>Sponsored by State Farm
LOCATION:Keffler Field #1   (Breckinridge Park)
CATEGORIES:QuickScores; Flag Football Game
TRANSP:0
DALARM:20250907T130000;PT10M;2;[A1] The Godsey Law Firm vs. [A2] FM
END:VEVENT
END:VCALENDAR
